BEGIN:VCALENDAR
VERSION:2.0
PRODID:-//jEvents 2.0 for Joomla//EN
CALSCALE:GREGORIAN
METHOD:PUBLISH
BEGIN:VEVENT
UID:CSVConvertffb2957f19e246ac2bd55204d49d7f0a
CATEGORIES:Sek.I
CREATED:20230703T121508
SUMMARY:Abgabe Gesundheitszeugnis SBP 10
DESCRIPTION;ENCODING=QUOTED-PRINTABLE:\n\nAbgabe der schriftlichen Anmeldung für das Gesundheitszeugnis\n\n\nSchü
 lerbetriebspraktikum Klasse 10\n Dieser Event wurde importiert von: https:/
 /www.homburgschule.de/index.php/aktuelles/schulorganisation/eventdetail/60/
 -/abgabe-gesundheitszeugnis-sbp-10?tmpl=component
DTSTAMP:20260420T101718Z
DTSTART;VALUE=DATE:20230929
DTEND;VALUE=DATE:20230930
SEQUENCE:0
TRANSP:OPAQUE
END:VEVENT
END:VCALENDAR