BEGIN:VCALENDAR
VERSION:2.0
PRODID:-//jEvents 2.0 for Joomla//EN
CALSCALE:GREGORIAN
METHOD:PUBLISH
BEGIN:VEVENT
UID:8d0df498f9a727872b06380275838178
CATEGORIES:Sek.I
CREATED:20250217T093048
SUMMARY:Teambesprechung Klasse 7 16.00 Uhr
DESCRIPTION;ENCODING=QUOTED-PRINTABLE: Dieser Event wurde importiert von: https://www.homburgschule.de/index.php/
 aktuelles/schulorganisation/eventdetail/505/-/teambesprechung-klasse-7-16-0
 0-uhr?tmpl=component
DTSTAMP:20260419T172527Z
DTSTART;VALUE=DATE:20250305
DTEND;VALUE=DATE:20250306
SEQUENCE:0
TRANSP:OPAQUE
END:VEVENT
END:VCALENDAR