BEGIN:VCALENDAR
VERSION:2.0
PRODID:-//jEvents 2.0 for Joomla//EN
CALSCALE:GREGORIAN
METHOD:PUBLISH
BEGIN:VEVENT
UID:ac001fa426ec05c865b382c0b5af5017
CATEGORIES:Sek.II
CREATED:20250123T173241
SUMMARY:Abiturprüfung  2025 GK ge/geo
DESCRIPTION;ENCODING=QUOTED-PRINTABLE: Dieser Event wurde importiert von: https://www.homburgschule.de/index.php/
 aktuelles/schulorganisation/eventdetail/481/-/abiturpruefung-2025-gk-ge-geo
 ?tmpl=component
DTSTAMP:20260423T115525Z
DTSTART;VALUE=DATE:20250411
DTEND;VALUE=DATE:20250412
SEQUENCE:0
TRANSP:OPAQUE
END:VEVENT
END:VCALENDAR