BEGIN:VCALENDAR
VERSION:2.0
PRODID:-//jEvents 2.0 for Joomla//EN
CALSCALE:GREGORIAN
METHOD:PUBLISH
BEGIN:VEVENT
UID:20250925-radfahrausbildung-4b@primarstufe.de
CATEGORIES:Primar
CREATED:20250921T183950
SUMMARY:Radfahrausbildung Klasse 4b
DESCRIPTION;ENCODING=QUOTED-PRINTABLE:\n\nRadfahrausbildung für Klasse 4b\n Dieser Event wurde importiert von: ht
 tps://www.homburgschule.de/index.php/aktuelles/schulorganisation/eventdetai
 l/574/-/radfahrausbildung-klasse-4b?tmpl=component
DTSTAMP:20260420T144008Z
DTSTART;VALUE=DATE:20250925
DTEND;VALUE=DATE:20250926
SEQUENCE:0
TRANSP:OPAQUE
END:VEVENT
END:VCALENDAR