BEGIN:VCALENDAR
VERSION:2.0
PRODID:-//jEvents 2.0 for Joomla//EN
CALSCALE:GREGORIAN
METHOD:PUBLISH
BEGIN:VEVENT
UID:be3adacbb7ce46474f36aa181b216950
CATEGORIES:Allgemein
CREATED:20250914T192449
SUMMARY:Tag der offenen Tür
DESCRIPTION;ENCODING=QUOTED-PRINTABLE: Dieser Event wurde importiert von: https://www.homburgschule.de/index.php/
 aktuelles/schulorganisation/eventdetail/570/-/tag-der-offenen-tuer?tmpl=com
 ponent
DTSTAMP:20260420T081718Z
DTSTART:20251115T090000Z
DTEND:20251115T120000Z
SEQUENCE:0
TRANSP:OPAQUE
END:VEVENT
END:VCALENDAR