BEGIN:VCALENDAR
VERSION:2.0
PRODID:-//jEvents 2.0 for Joomla//EN
CALSCALE:GREGORIAN
METHOD:PUBLISH
BEGIN:VEVENT
UID:b3fba1e3d78a242004da3788171df35b
CATEGORIES:Sek.I
CREATED:20250722T192328
SUMMARY:"Wege zum Beruf" Klasse 10 Agentur für Arbeit
DESCRIPTION;ENCODING=QUOTED-PRINTABLE:\n\nInformationsveranstaltung der Berufsberaterin Frau Hirt (Agentur für Ar
 beit Neuruppin) - alle 10. Klassen\n\n\n1. Stunde - Information über die we
 itere Berufswegeplanung\n Dieser Event wurde importiert von: https://www.ho
 mburgschule.de/index.php/aktuelles/schulorganisation/eventdetail/558/-/wege
 -zum-beruf-klasse-10-agentur-fuer-arbeit?tmpl=component
DTSTAMP:20260420T103136Z
DTSTART;VALUE=DATE:20250915
DTEND;VALUE=DATE:20250916
SEQUENCE:0
TRANSP:OPAQUE
END:VEVENT
END:VCALENDAR