BEGIN:VCALENDAR
VERSION:2.0
PRODID:-//jEvents 2.0 for Joomla//EN
CALSCALE:GREGORIAN
METHOD:PUBLISH
BEGIN:VEVENT
UID:351cfafdcd152569257f43c96683bf1f
CATEGORIES:Sek.I
CREATED:20250722T192255
SUMMARY:"Wege zum Beruf"  - Bundespolizei
DESCRIPTION;ENCODING=QUOTED-PRINTABLE:\n\nEine Informationsveranstaltung der Bundespolizei.\n\n\nDoppelstunde für
  alle 10. Klassen zur Information über die mögliche Optionen und Chancen im
  Unternehmen. (4.-5. Stunde)\n Dieser Event wurde importiert von: https://w
 ww.homburgschule.de/index.php/aktuelles/schulorganisation/eventdetail/557/-
 /wege-zum-beruf-bundespolizei?tmpl=component
DTSTAMP:20260420T103101Z
DTSTART;VALUE=DATE:20250915
DTEND;VALUE=DATE:20250916
SEQUENCE:0
TRANSP:OPAQUE
END:VEVENT
END:VCALENDAR