BEGIN:VCALENDAR
VERSION:2.0
PRODID:-//jEvents 2.0 for Joomla//EN
CALSCALE:GREGORIAN
METHOD:PUBLISH
BEGIN:VEVENT
UID:07df925e21e823d389944e092fae251e
CATEGORIES:Sek.I
CREATED:20250625T122056
SUMMARY:Praxis BO Projekt "Medienberufe und Netzkompetenz" Klasse 7b
DESCRIPTION;ENCODING=QUOTED-PRINTABLE:<p>Der Träger "Büro Blau" ist für jeweils zwei Tage in einer siebten Klasse
  zu Gast. Gemeinsam mit den Schülerinnen und Schülern werden unter professi
 oneller Anleitung Inhalte zu Medienberufen erarbeitet und gemeinsam bestehe
 ndes Wissen und notwendige Kompetenzen zur Mediennutzung entwickelt.</p><p>
 Ort: Prinz-von-Homburg Gesamtschule</p><p> </p><p> </p> Dieser Event wurde 
 importiert von: https://www.homburgschule.de/index.php/aktuelles/schulorgan
 isation/eventdetail/553/-/praxis-bo-projekt-medienberufe-und-netzkompetenz-
 klasse-7b?tmpl=component
DTSTAMP:20260420T103332Z
DTSTART;VALUE=DATE:20250918
DTEND;VALUE=DATE:20250920
SEQUENCE:0
TRANSP:OPAQUE
END:VEVENT
END:VCALENDAR