BEGIN:VCALENDAR
VERSION:2.0
PRODID:-//jEvents 2.0 for Joomla//EN
CALSCALE:GREGORIAN
METHOD:PUBLISH
BEGIN:VEVENT
UID:5aea14bad3781a15e287b9e5885b7257
CATEGORIES:Sek.I
CREATED:20250518T122013
SUMMARY:"Check U" - 9a / 9b - Kompetenztest Berufsberatung 
DESCRIPTION;ENCODING=QUOTED-PRINTABLE:<p>Durchführung: Frau Hirt (Agentur für Arbeit Neuruppin)</p> Dieser Event 
 wurde importiert von: https://www.homburgschule.de/index.php/aktuelles/schu
 lorganisation/eventdetail/540/-/check-u-9a-9b-kompetenztest-berufsberatung?
 tmpl=component
DTSTAMP:20260420T102123Z
DTSTART;VALUE=DATE:20250922
DTEND;VALUE=DATE:20250923
SEQUENCE:0
TRANSP:OPAQUE
END:VEVENT
END:VCALENDAR