BEGIN:VCALENDAR
VERSION:2.0
PRODID:-//jEvents 2.0 for Joomla//EN
CALSCALE:GREGORIAN
METHOD:PUBLISH
BEGIN:VEVENT
UID:CSVConvertcb75a80a52af83a643fae55bf9b2d3d2
CATEGORIES:Sek.I
CREATED:20230703T121507
SUMMARY:Praxislernen – Block I 
DESCRIPTION;ENCODING=QUOTED-PRINTABLE:\n\nPraxislernen – Block I – individuelle Schülergruppe” (Praxis BO)\n\n\nL
 erngruppe von maximal 15 Schülern nimmt im Blockunterricht Praxislernen tei
 l – außerschulischer Lernort -\n\n\nProjekt unter Vorbehalt. Betrifft Klass
 e 9\n\n\n \n Dieser Event wurde importiert von: https://www.homburgschule.d
 e/index.php/aktuelles/schulorganisation/eventdetail/54/-/praxislernen-block
 -i?tmpl=component
DTSTAMP:20260420T103116Z
DTSTART;VALUE=DATE:20231106
DTEND;VALUE=DATE:20231118
SEQUENCE:0
TRANSP:OPAQUE
END:VEVENT
END:VCALENDAR