BEGIN:VCALENDAR
VERSION:2.0
PRODID:-//jEvents 2.0 for Joomla//EN
CALSCALE:GREGORIAN
METHOD:PUBLISH
BEGIN:VEVENT
UID:f10a4ac1f75fa577956a7380a34227e9
CATEGORIES:Allgemein
CREATED:20240719T113722
SUMMARY:Gesamtelternkonferenz
DESCRIPTION;ENCODING=QUOTED-PRINTABLE:<p>18.00 Uhr Aula</p> Dieser Event wurde importiert von: https://www.hombur
 gschule.de/index.php/aktuelles/schulorganisation/eventdetail/372/-/gesamtel
 ternkonferenz?tmpl=component
DTSTAMP:20260419T140654Z
DTSTART;VALUE=DATE:20241009
DTEND;VALUE=DATE:20241010
SEQUENCE:0
TRANSP:OPAQUE
END:VEVENT
END:VCALENDAR