BEGIN:VCALENDAR
VERSION:2.0
PRODID:-//jEvents 2.0 for Joomla//EN
CALSCALE:GREGORIAN
METHOD:PUBLISH
BEGIN:VEVENT
UID:9298051f30d5fe1dc54910c2a422c2ed
CATEGORIES:Sek.I
CREATED:20240529T144520
SUMMARY:Wechsel in den W-A-T WP I - Lerngruppen Jahrgang 8
DESCRIPTION;ENCODING=QUOTED-PRINTABLE: Dieser Event wurde importiert von: https://www.homburgschule.de/index.php/
 aktuelles/schulorganisation/eventdetail/343/-/wechsel-in-den-w-a-t-wp-i-ler
 ngruppen-jahrgang-8?tmpl=component
DTSTAMP:20260425T122617Z
DTSTART;VALUE=DATE:20250324
DTEND;VALUE=DATE:20250329
SEQUENCE:0
TRANSP:OPAQUE
END:VEVENT
END:VCALENDAR