BEGIN:VCALENDAR
VERSION:2.0
PRODID:-//jEvents 2.0 for Joomla//EN
CALSCALE:GREGORIAN
METHOD:PUBLISH
BEGIN:VEVENT
UID:891b0f9f61b9216109c7e03ced0e9686
CATEGORIES:Sek.I
CREATED:20240529T113319
SUMMARY:Girl#s and Boy#s Day
DESCRIPTION;ENCODING=QUOTED-PRINTABLE:\n\nTeilnahme im Jahrgang für Schüler der Klasse 7 und 8\n Dieser Event wur
 de importiert von: https://www.homburgschule.de/index.php/aktuelles/schulor
 ganisation/eventdetail/302/-/girl-s-and-boy-s-day?tmpl=component
DTSTAMP:20260423T103312Z
DTSTART;VALUE=DATE:20250403
DTEND;VALUE=DATE:20250404
SEQUENCE:0
TRANSP:OPAQUE
END:VEVENT
END:VCALENDAR