BEGIN:VCALENDAR
VERSION:2.0
PRODID:-//jEvents 2.0 for Joomla//EN
CALSCALE:GREGORIAN
METHOD:PUBLISH
BEGIN:VEVENT
UID:b6a609baa056ec3023a6f94026595fae
CATEGORIES:Primar
CREATED:20231107T194724
SUMMARY:K3 & K4 -- Zahnmedizinische Gruppenprophylaxe
DESCRIPTION;ENCODING=QUOTED-PRINTABLE:\n\nBitte mitbringen: \n\n - Prophylaxepass\n - Zahnputzsachen\n\nWeitere I
 nformationen finden Sie unter:\n\n\nwww.brandenburger-kinderzaehne.de\n Die
 ser Event wurde importiert von: https://www.homburgschule.de/index.php/aktu
 elles/schulorganisation/eventdetail/249/-/k3-k4-zahnmedizinische-gruppenpro
 phylaxe?tmpl=component
DTSTAMP:20260420T103126Z
DTSTART;VALUE=DATE:20231206
DTEND;VALUE=DATE:20231207
SEQUENCE:0
TRANSP:OPAQUE
END:VEVENT
END:VCALENDAR