BEGIN:VCALENDAR
VERSION:2.0
PRODID:-//jEvents 2.0 for Joomla//EN
CALSCALE:GREGORIAN
METHOD:PUBLISH
BEGIN:VEVENT
UID:f060592ac88bf5ed6e16e0745d9b64b2
CATEGORIES:Sek.II
CREATED:20230827T204125
SUMMARY:Zentralabitur GK außer Bio, Che, Deu, Eng, Fra, Ma, Phy
DESCRIPTION;ENCODING=QUOTED-PRINTABLE:\n\n09.00 Uhr\n Dieser Event wurde importiert von: https://www.homburgschul
 e.de/index.php/aktuelles/schulorganisation/eventdetail/134/-/zentralabitur-
 gk-ausser-bio-che-deu-eng-fra-ma-phy?tmpl=component
DTSTAMP:20260420T144008Z
DTSTART;VALUE=DATE:20240415
DTEND;VALUE=DATE:20240416
SEQUENCE:0
TRANSP:OPAQUE
END:VEVENT
END:VCALENDAR